BEGIN:VCALENDAR
VERSION:2.0
PRODID:-//Greater Manchester Police Federation - ECPv6.15.20//NONSGML v1.0//EN
CALSCALE:GREGORIAN
METHOD:PUBLISH
X-WR-CALNAME:Greater Manchester Police Federation
X-ORIGINAL-URL:https://gmppolfed.org.uk
X-WR-CALDESC:Events for Greater Manchester Police Federation
REFRESH-INTERVAL;VALUE=DURATION:PT1H
X-Robots-Tag:noindex
X-PUBLISHED-TTL:PT1H
BEGIN:VTIMEZONE
TZID:UTC
BEGIN:STANDARD
TZOFFSETFROM:+0000
TZOFFSETTO:+0000
TZNAME:UTC
DTSTART:20250101T000000
END:STANDARD
END:VTIMEZONE
BEGIN:VEVENT
DTSTART;VALUE=DATE:20260409
DTEND;VALUE=DATE:20260410
DTSTAMP:20260422T114737
CREATED:20251218T175439Z
LAST-MODIFIED:20251218T175439Z
UID:2074-1775692800-1775779199@gmppolfed.org.uk
SUMMARY:McAlister Solicitors – Family Law Surgery.
DESCRIPTION:An opportunity for any of you to speak directly to a fully qualified solicitor totally free of charge. Please call the Federation office on 0161 3554400 to book an appointment.
URL:https://gmppolfed.org.uk/event/mcalister-solicitors-family-law-surgery-4/
END:VEVENT
END:VCALENDAR