BEGIN:VCALENDAR
VERSION:2.0
PRODID:-//Greater Manchester Police Federation - ECPv6.15.20//NONSGML v1.0//EN
CALSCALE:GREGORIAN
METHOD:PUBLISH
X-WR-CALNAME:Greater Manchester Police Federation
X-ORIGINAL-URL:https://gmppolfed.org.uk
X-WR-CALDESC:Events for Greater Manchester Police Federation
REFRESH-INTERVAL;VALUE=DURATION:PT1H
X-Robots-Tag:noindex
X-PUBLISHED-TTL:PT1H
BEGIN:VTIMEZONE
TZID:UTC
BEGIN:STANDARD
TZOFFSETFROM:+0000
TZOFFSETTO:+0000
TZNAME:UTC
DTSTART:20250101T000000
END:STANDARD
END:VTIMEZONE
BEGIN:VEVENT
DTSTART;VALUE=DATE:20261105
DTEND;VALUE=DATE:20261106
DTSTAMP:20260422T230704
CREATED:20251218T172036Z
LAST-MODIFIED:20251218T172036Z
UID:2039-1793836800-1793923199@gmppolfed.org.uk
SUMMARY:DGM Solicitors – Personal injury surgery.
DESCRIPTION:An opportunity for you to speak directly to a fully qualified solicitor totally free of charge. For an appointment please contact the Federation office on 0161 3554400.
URL:https://gmppolfed.org.uk/event/dgm-solicitors-personal-injury-surgery-11/
END:VEVENT
BEGIN:VEVENT
DTSTART;VALUE=DATE:20261105
DTEND;VALUE=DATE:20261106
DTSTAMP:20260422T230704
CREATED:20251218T172927Z
LAST-MODIFIED:20251218T172927Z
UID:2064-1793836800-1793923199@gmppolfed.org.uk
SUMMARY:The Mortgage Hut - Remote Surgery
DESCRIPTION:Whether you are a first-time buyer\, or an existing homeowner looking to re-mortgage or purchase your next property for residential or investment purposes\, however complex your individual circumstances\, they have a team of highly qualified mortgage advisers who will fully assess your situation\, please see below PDF attached\n\nMortgage Advice
URL:https://gmppolfed.org.uk/event/the-mortgage-hut-remote-surgery-11/
END:VEVENT
END:VCALENDAR