BEGIN:VCALENDAR
VERSION:2.0
PRODID:-//Greater Manchester Police Federation - ECPv6.15.20//NONSGML v1.0//EN
CALSCALE:GREGORIAN
METHOD:PUBLISH
X-ORIGINAL-URL:https://gmppolfed.org.uk
X-WR-CALDESC:Events for Greater Manchester Police Federation
REFRESH-INTERVAL;VALUE=DURATION:PT1H
X-Robots-Tag:noindex
X-PUBLISHED-TTL:PT1H
BEGIN:VTIMEZONE
TZID:UTC
BEGIN:STANDARD
TZOFFSETFROM:+0000
TZOFFSETTO:+0000
TZNAME:UTC
DTSTART:20250101T000000
END:STANDARD
END:VTIMEZONE
BEGIN:VEVENT
DTSTART;VALUE=DATE:20261117
DTEND;VALUE=DATE:20261118
DTSTAMP:20260422T230746
CREATED:20251219T201031Z
LAST-MODIFIED:20251219T201031Z
UID:2151-1794873600-1794959999@gmppolfed.org.uk
SUMMARY:Pre-Retirement Workshop
DESCRIPTION:Areas covered include money management\, preparing for retirement\, police pension schemes\, pensions and taxation\, group insurance scheme. For further information on securing a place on this Workshop please see 2026 flyer below where you can book direct. \nGMP Seminar Flyer 2026
URL:https://gmppolfed.org.uk/event/pre-retirement-workshop-4/
END:VEVENT
END:VCALENDAR