BEGIN:VCALENDAR
VERSION:2.0
PRODID:-//Greater Manchester Police Federation - ECPv6.15.20//NONSGML v1.0//EN
CALSCALE:GREGORIAN
METHOD:PUBLISH
X-WR-CALNAME:Greater Manchester Police Federation
X-ORIGINAL-URL:https://gmppolfed.org.uk
X-WR-CALDESC:Events for Greater Manchester Police Federation
REFRESH-INTERVAL;VALUE=DURATION:PT1H
X-Robots-Tag:noindex
X-PUBLISHED-TTL:PT1H
BEGIN:VTIMEZONE
TZID:UTC
BEGIN:STANDARD
TZOFFSETFROM:+0000
TZOFFSETTO:+0000
TZNAME:UTC
DTSTART:20250101T000000
END:STANDARD
END:VTIMEZONE
BEGIN:VEVENT
DTSTART;VALUE=DATE:20261123
DTEND;VALUE=DATE:20261124
DTSTAMP:20260422T230701
CREATED:20251218T171359Z
LAST-MODIFIED:20251218T171359Z
UID:2013-1795392000-1795478399@gmppolfed.org.uk
SUMMARY:Gorvins Family Law – Surgery
DESCRIPTION:An opportunity for any of you to speak directly to a fully qualified solicitor totally free of charge. – For an appointment please contact the Federation Office on 0161 355 4400.
URL:https://gmppolfed.org.uk/event/gorvins-family-law-surgery-23/
END:VEVENT
BEGIN:VEVENT
DTSTART;VALUE=DATE:20261123
DTEND;VALUE=DATE:20261124
DTSTAMP:20260422T230701
CREATED:20260106T113625Z
LAST-MODIFIED:20260106T113625Z
UID:2191-1795392000-1795478399@gmppolfed.org.uk
SUMMARY:Independent Financial Advice – Phil Pearson
DESCRIPTION:Covering the following areas: Money Management\, e.g. Do we pay the mortgage off? Can we maintain our lifestyle following retirement?  Investment strategy: e.g. Risk/Reward and Tax planning – to arrange an appointment please contact the Federation office on 0161 3554400.
URL:https://gmppolfed.org.uk/event/independent-financial-advice-phil-pearson-8/
END:VEVENT
END:VCALENDAR