BEGIN:VCALENDAR
VERSION:2.0
PRODID:-//Greater Manchester Police Federation - ECPv6.15.20//NONSGML v1.0//EN
CALSCALE:GREGORIAN
METHOD:PUBLISH
X-WR-CALNAME:Greater Manchester Police Federation
X-ORIGINAL-URL:https://gmppolfed.org.uk
X-WR-CALDESC:Events for Greater Manchester Police Federation
REFRESH-INTERVAL;VALUE=DURATION:PT1H
X-Robots-Tag:noindex
X-PUBLISHED-TTL:PT1H
BEGIN:VTIMEZONE
TZID:UTC
BEGIN:STANDARD
TZOFFSETFROM:+0000
TZOFFSETTO:+0000
TZNAME:UTC
DTSTART:20250101T000000
END:STANDARD
END:VTIMEZONE
BEGIN:VEVENT
DTSTART;VALUE=DATE:20261126
DTEND;VALUE=DATE:20261127
DTSTAMP:20260422T230749
CREATED:20251218T180822Z
LAST-MODIFIED:20251218T180822Z
UID:2112-1795651200-1795737599@gmppolfed.org.uk
SUMMARY:Mark Skinner – Debt Counselling Surgery
DESCRIPTION:Mark has spoken with hundreds of officers over the years and helped them find solutions to their debt problems\, whether that be to enter a Debt Management Plan (DMP)\, an Individual Voluntary Arrangement (IVA) or even Bankruptcy. The correct solution all depends on what the circumstances are for that officer and their family. I can also discuss specific one-off matters such as rent / mortgage arrears\, county court judgements (CCJ’s)\, credit scores and money management\, or even bailiff issues. – For an appointment please contact the Federation Office on 0161 355 4400.
URL:https://gmppolfed.org.uk/event/mark-skinner-debt-counselling-surgery-11/
END:VEVENT
END:VCALENDAR