BEGIN:VCALENDAR
VERSION:2.0
PRODID:-//Greater Manchester Police Federation - ECPv6.15.20//NONSGML v1.0//EN
CALSCALE:GREGORIAN
METHOD:PUBLISH
X-WR-CALNAME:Greater Manchester Police Federation
X-ORIGINAL-URL:https://gmppolfed.org.uk
X-WR-CALDESC:Events for Greater Manchester Police Federation
REFRESH-INTERVAL;VALUE=DURATION:PT1H
X-Robots-Tag:noindex
X-PUBLISHED-TTL:PT1H
BEGIN:VTIMEZONE
TZID:UTC
BEGIN:STANDARD
TZOFFSETFROM:+0000
TZOFFSETTO:+0000
TZNAME:UTC
DTSTART:20250101T000000
END:STANDARD
END:VTIMEZONE
BEGIN:VEVENT
DTSTART;VALUE=DATE:20261202
DTEND;VALUE=DATE:20261203
DTSTAMP:20260422T230708
CREATED:20260325T145827Z
LAST-MODIFIED:20260325T145827Z
UID:2316-1796169600-1796255999@gmppolfed.org.uk
SUMMARY:Lund Bennett Family Law – Surgery in person or via Teams/Telephone.
DESCRIPTION:An opportunity for any of you to speak directly to a fully qualified solicitor totally free of charge. – For an appointment\, please contact the Federation Office on 0161 355 4400.  Or you can contact them directly on 0161 925 5747 / info@lundbennett.co.uk for a free appointment. \nLund Bennett Law are a specialist Family Law solicitors practice. They have a wealth of experience in dealing with divorce\, police pensions and finances on divorce and all children law matters. \nLund Bennett | Family Law Solicitors | Altrincham & Manchester \n 
URL:https://gmppolfed.org.uk/event/lund-bennett-family-law-surgery-in-person-or-via-teams-telephone-9/
END:VEVENT
END:VCALENDAR