BEGIN:VCALENDAR
VERSION:2.0
PRODID:-//Greater Manchester Police Federation - ECPv6.15.20//NONSGML v1.0//EN
CALSCALE:GREGORIAN
METHOD:PUBLISH
X-WR-CALNAME:Greater Manchester Police Federation
X-ORIGINAL-URL:https://gmppolfed.org.uk
X-WR-CALDESC:Events for Greater Manchester Police Federation
REFRESH-INTERVAL;VALUE=DURATION:PT1H
X-Robots-Tag:noindex
X-PUBLISHED-TTL:PT1H
BEGIN:VTIMEZONE
TZID:UTC
BEGIN:STANDARD
TZOFFSETFROM:+0000
TZOFFSETTO:+0000
TZNAME:UTC
DTSTART:20250101T000000
END:STANDARD
END:VTIMEZONE
BEGIN:VEVENT
DTSTART;VALUE=DATE:20261208
DTEND;VALUE=DATE:20261209
DTSTAMP:20260423T003920
CREATED:20251218T181630Z
LAST-MODIFIED:20251218T181630Z
UID:2138-1796688000-1796774399@gmppolfed.org.uk
SUMMARY:JMW – Family Law Surgery – Remote surgery
DESCRIPTION:An opportunity for any of you to speak directly to a fully qualified solicitor totally free of charge – for an appointment please contact the Federation office on 0161 3554400.
URL:https://gmppolfed.org.uk/event/jmw-family-law-surgery-remote-surgery-12/
END:VEVENT
END:VCALENDAR