BEGIN:VCALENDAR
VERSION:2.0
PRODID:-//Greater Manchester Police Federation - ECPv6.15.20//NONSGML v1.0//EN
CALSCALE:GREGORIAN
METHOD:PUBLISH
X-WR-CALNAME:Greater Manchester Police Federation
X-ORIGINAL-URL:https://gmppolfed.org.uk
X-WR-CALDESC:Events for Greater Manchester Police Federation
REFRESH-INTERVAL;VALUE=DURATION:PT1H
X-Robots-Tag:noindex
X-PUBLISHED-TTL:PT1H
BEGIN:VTIMEZONE
TZID:UTC
BEGIN:STANDARD
TZOFFSETFROM:+0000
TZOFFSETTO:+0000
TZNAME:UTC
DTSTART:20250101T000000
END:STANDARD
END:VTIMEZONE
BEGIN:VEVENT
DTSTART;TZID=UTC:20261221T080000
DTEND;TZID=UTC:20261221T170000
DTSTAMP:20260423T003921
CREATED:20251218T171426Z
LAST-MODIFIED:20251218T171426Z
UID:2015-1797840000-1797872400@gmppolfed.org.uk
SUMMARY:Gorvins Family Law – Surgery
DESCRIPTION:An opportunity for any of you to speak directly to a fully qualified solicitor totally free of charge. – For an appointment please contact the Federation Office on 0161 355 4400.
URL:https://gmppolfed.org.uk/event/gorvins-family-law-surgery-24/
END:VEVENT
END:VCALENDAR