BEGIN:VCALENDAR
VERSION:2.0
PRODID:-//Greater Manchester Police Federation - ECPv6.15.20//NONSGML v1.0//EN
CALSCALE:GREGORIAN
METHOD:PUBLISH
X-WR-CALNAME:Greater Manchester Police Federation
X-ORIGINAL-URL:https://gmppolfed.org.uk
X-WR-CALDESC:Events for Greater Manchester Police Federation
REFRESH-INTERVAL;VALUE=DURATION:PT1H
X-Robots-Tag:noindex
X-PUBLISHED-TTL:PT1H
BEGIN:VTIMEZONE
TZID:UTC
BEGIN:STANDARD
TZOFFSETFROM:+0000
TZOFFSETTO:+0000
TZNAME:UTC
DTSTART:20250101T000000
END:STANDARD
END:VTIMEZONE
BEGIN:VEVENT
DTSTART;VALUE=DATE:20260603
DTEND;VALUE=DATE:20260604
DTSTAMP:20260422T132212
CREATED:20260325T145507Z
LAST-MODIFIED:20260325T145507Z
UID:2304-1780444800-1780531199@gmppolfed.org.uk
SUMMARY:Lund Bennett Family Law – Surgery in person or via Teams/Telephone.
DESCRIPTION:An opportunity for any of you to speak directly to a fully qualified solicitor totally free of charge. – For an appointment\, please contact the Federation Office on 0161 355 4400.  Or you can contact them directly on 0161 925 5747 / info@lundbennett.co.uk for a free appointment. \nLund Bennett Law are a specialist Family Law solicitors practice. They have a wealth of experience in dealing with divorce\, police pensions and finances on divorce and all children law matters. \nLund Bennett | Family Law Solicitors | Altrincham & Manchester
URL:https://gmppolfed.org.uk/event/lund-bennett-family-law-surgery-in-person-or-via-teams-telephone-3/
END:VEVENT
BEGIN:VEVENT
DTSTART;VALUE=DATE:20260604
DTEND;VALUE=DATE:20260605
DTSTAMP:20260422T132212
CREATED:20251218T171720Z
LAST-MODIFIED:20251218T171720Z
UID:2027-1780531200-1780617599@gmppolfed.org.uk
SUMMARY:DGM Solicitors – Personal injury surgery.
DESCRIPTION:An opportunity for you to speak directly to a fully qualified solicitor totally free of charge. For an appointment please contact the Federation office on 0161 3554400.
URL:https://gmppolfed.org.uk/event/dgm-solicitors-personal-injury-surgery-6/
END:VEVENT
BEGIN:VEVENT
DTSTART;VALUE=DATE:20260604
DTEND;VALUE=DATE:20260605
DTSTAMP:20260422T132212
CREATED:20251218T172546Z
LAST-MODIFIED:20251218T172546Z
UID:2054-1780531200-1780617599@gmppolfed.org.uk
SUMMARY:The Mortgage Hut - Remote Surgery
DESCRIPTION:Whether you are a first-time buyer\, or an existing homeowner looking to re-mortgage or purchase your next property for residential or investment purposes\, however complex your individual circumstances\, they have a team of highly qualified mortgage advisers who will fully assess your situation\, please see below PDF attached\n\nMortgage Advice
URL:https://gmppolfed.org.uk/event/the-mortgage-hut-remote-surgery-6/
END:VEVENT
BEGIN:VEVENT
DTSTART;VALUE=DATE:20260609
DTEND;VALUE=DATE:20260610
DTSTAMP:20260422T132212
CREATED:20251218T181249Z
LAST-MODIFIED:20251218T181249Z
UID:2126-1780963200-1781049599@gmppolfed.org.uk
SUMMARY:JMW – Family Law Surgery – Remote surgery
DESCRIPTION:An opportunity for any of you to speak directly to a fully qualified solicitor totally free of charge – for an appointment please contact the Federation office on 0161 3554400.
URL:https://gmppolfed.org.uk/event/jmw-family-law-surgery-remote-surgery-6/
END:VEVENT
BEGIN:VEVENT
DTSTART;VALUE=DATE:20260611
DTEND;VALUE=DATE:20260612
DTSTAMP:20260422T132212
CREATED:20251218T175544Z
LAST-MODIFIED:20251218T175544Z
UID:2078-1781136000-1781222399@gmppolfed.org.uk
SUMMARY:McAlister Solicitors – Family Law Surgery.
DESCRIPTION:An opportunity for any of you to speak directly to a fully qualified solicitor totally free of charge. Please call the Federation office on 0161 3554400 to book an appointment.
URL:https://gmppolfed.org.uk/event/mcalister-solicitors-family-law-surgery-6/
END:VEVENT
BEGIN:VEVENT
DTSTART;VALUE=DATE:20260616
DTEND;VALUE=DATE:20260617
DTSTAMP:20260422T132212
CREATED:20251219T200639Z
LAST-MODIFIED:20251219T200639Z
UID:2146-1781568000-1781654399@gmppolfed.org.uk
SUMMARY:Pre-Retirement Workshop
DESCRIPTION:Areas covered include money management\, preparing for retirement\, police pension schemes\, pensions and taxation\, group insurance scheme. For further information on securing a place on this Workshop please see 2026 flyer below where you can book direct. \nGMP Seminar Flyer 2026
URL:https://gmppolfed.org.uk/event/pre-retirement-workshop-2/
END:VEVENT
BEGIN:VEVENT
DTSTART;VALUE=DATE:20260622
DTEND;VALUE=DATE:20260623
DTSTAMP:20260422T132212
CREATED:20251218T171126Z
LAST-MODIFIED:20251218T171126Z
UID:2003-1782086400-1782172799@gmppolfed.org.uk
SUMMARY:Gorvins Family Law – Surgery
DESCRIPTION:An opportunity for any of you to speak directly to a fully qualified solicitor totally free of charge. – For an appointment please contact the Federation Office on 0161 355 4400.
URL:https://gmppolfed.org.uk/event/gorvins-family-law-surgery-18/
END:VEVENT
BEGIN:VEVENT
DTSTART;VALUE=DATE:20260622
DTEND;VALUE=DATE:20260623
DTSTAMP:20260422T132212
CREATED:20260106T113443Z
LAST-MODIFIED:20260106T113443Z
UID:2184-1782086400-1782172799@gmppolfed.org.uk
SUMMARY:Independent Financial Advice – Phil Pearson
DESCRIPTION:Covering the following areas: Money Management\, e.g. Do we pay the mortgage off? Can we maintain our lifestyle following retirement?  Investment strategy: e.g. Risk/Reward and Tax planning – to arrange an appointment please contact the Federation office on 0161 3554400.
URL:https://gmppolfed.org.uk/event/independent-financial-advice-phil-pearson-5/
END:VEVENT
BEGIN:VEVENT
DTSTART;VALUE=DATE:20260625
DTEND;VALUE=DATE:20260626
DTSTAMP:20260422T132212
CREATED:20251218T180430Z
LAST-MODIFIED:20251218T180430Z
UID:2102-1782345600-1782431999@gmppolfed.org.uk
SUMMARY:Mark Skinner – Debt Counselling Surgery
DESCRIPTION:Mark has spoken with hundreds of officers over the years and helped them find solutions to their debt problems\, whether that be to enter a Debt Management Plan (DMP)\, an Individual Voluntary Arrangement (IVA) or even Bankruptcy. The correct solution all depends on what the circumstances are for that officer and their family. I can also discuss specific one-off matters such as rent / mortgage arrears\, county court judgements (CCJ’s)\, credit scores and money management\, or even bailiff issues. – For an appointment please contact the Federation Office on 0161 355 4400.
URL:https://gmppolfed.org.uk/event/mark-skinner-debt-counselling-surgery-6/
END:VEVENT
BEGIN:VEVENT
DTSTART;VALUE=DATE:20260630
DTEND;VALUE=DATE:20260701
DTSTAMP:20260422T132212
CREATED:20251218T170443Z
LAST-MODIFIED:20251218T170443Z
UID:1979-1782777600-1782863999@gmppolfed.org.uk
SUMMARY:C.V. Surgery - Remote surgery
DESCRIPTION:An insight into what you will need should you wish to seek further employment following retirement. Linda will offer initial expert guidance on preparing CV’s\, covering letters and LinkedIn profiles. This surgery does not include a full CV preparation; Linda however can offer this service at a competitive rate should you so wish – to arrange an appointment please contact the Federation office on 0161 3554400.
URL:https://gmppolfed.org.uk/event/c-v-surgery-remote-surgery-6/
END:VEVENT
END:VCALENDAR